BEGIN:VCALENDAR
VERSION:2.0
PRODID:-//MoonDrop Herbals - ECPv6.15.18//NONSGML v1.0//EN
CALSCALE:GREGORIAN
METHOD:PUBLISH
X-ORIGINAL-URL:https://moondropherbals.com
X-WR-CALDESC:Events for MoonDrop Herbals
REFRESH-INTERVAL;VALUE=DURATION:PT1H
X-Robots-Tag:noindex
X-PUBLISHED-TTL:PT1H
BEGIN:VTIMEZONE
TZID:America/Detroit
BEGIN:DAYLIGHT
TZOFFSETFROM:-0500
TZOFFSETTO:-0400
TZNAME:EDT
DTSTART:20220313T070000
END:DAYLIGHT
BEGIN:STANDARD
TZOFFSETFROM:-0400
TZOFFSETTO:-0500
TZNAME:EST
DTSTART:20221106T060000
END:STANDARD
BEGIN:DAYLIGHT
TZOFFSETFROM:-0500
TZOFFSETTO:-0400
TZNAME:EDT
DTSTART:20230312T070000
END:DAYLIGHT
BEGIN:STANDARD
TZOFFSETFROM:-0400
TZOFFSETTO:-0500
TZNAME:EST
DTSTART:20231105T060000
END:STANDARD
BEGIN:DAYLIGHT
TZOFFSETFROM:-0500
TZOFFSETTO:-0400
TZNAME:EDT
DTSTART:20240310T070000
END:DAYLIGHT
BEGIN:STANDARD
TZOFFSETFROM:-0400
TZOFFSETTO:-0500
TZNAME:EST
DTSTART:20241103T060000
END:STANDARD
END:VTIMEZONE
BEGIN:VEVENT
DTSTART;TZID=America/Detroit:20231021T110000
DTEND;TZID=America/Detroit:20231022T160000
DTSTAMP:20260424T045628
CREATED:20231014T154210Z
LAST-MODIFIED:20231015T155853Z
UID:7229-1697886000-1697990400@moondropherbals.com
SUMMARY:Re-Opening Celebration
DESCRIPTION:Saturday + Sunday Oct. 21st + 22nd 2023\n11am – 4pm\nWelcome To Moondrop Herbals New Home!\nI’m Super Psyched for you to come check out Moondrop’s new digs! Come say ‘Hey’ and take advantage of discounts\, prizes\, guest vendors\, and good company! \n♥     20% off Select Crystals | 15% off all Moondrop Herbals Handmades | 15% off Branded Goat Handmades | 10% off all tarot + oracle  decks \n♥     COSTUMES welcomed but optional – You do You \n♥     A small cash donation or other needed items is requested to benefit our westside neighbor\, Otherway Minstries\, and gets you in a drawing to win one of several prizes valued at $25.00 – $50.00. (see www.theotherwayministries.org/donate/   and then click on ‘pantry high needs’ for a current list of suggested items). This a wonderful organization that offers community garden shares\, a co-op food market\, food pantry\, and child & afterschool care for Sibley St. school students among many other things. \nSaturday 10/21\n♥     In store discounts \n♥     Intuitive or Past Life Readings by Gayle (advance appointments recommended by calling 616 916 0701) \n♥     Happy Henna by Erin (advance appointments recommended by calling 616 735 1285) \n♥     Complimentary Elderberry Elixir Pressing (kit must have been previously purchased from Moondrop Herbals) \nSunday 10/22\n♥     In store discounts \n♥     Happy Henna by Erin (advance appointments recommended by calling 616 735 1285) \n♥     Branded Goat Designs: Handmade brooms and whisks + other handmades + demo on broom making \nMoondrop Herbals\n638 Fulton St West | Grand Rapids 49504\n\n  \n 
URL:https://moondropherbals.com/event/re-opening-celebration/
LOCATION:Moondrop Herbals\, 638 Fulton Street West STE B\, Grand Rapids\, MI\, 49504\, United States
CATEGORIES:Card Reading,Henna Art,Shopping Event
ATTACH;FMTTYPE=image/jpeg:https://moondropherbals.com/wp-content/uploads/2023/10/EventBanner.jpg
ORGANIZER;CN="Linda Snow":MAILTO:linda@moondropherbals.com
END:VEVENT
END:VCALENDAR