BEGIN:VCALENDAR
VERSION:2.0
PRODID:-//MoonDrop Herbals - ECPv6.15.18//NONSGML v1.0//EN
CALSCALE:GREGORIAN
METHOD:PUBLISH
X-ORIGINAL-URL:https://moondropherbals.com
X-WR-CALDESC:Events for MoonDrop Herbals
REFRESH-INTERVAL;VALUE=DURATION:PT1H
X-Robots-Tag:noindex
X-PUBLISHED-TTL:PT1H
BEGIN:VTIMEZONE
TZID:America/Detroit
BEGIN:DAYLIGHT
TZOFFSETFROM:-0500
TZOFFSETTO:-0400
TZNAME:EDT
DTSTART:20240310T070000
END:DAYLIGHT
BEGIN:STANDARD
TZOFFSETFROM:-0400
TZOFFSETTO:-0500
TZNAME:EST
DTSTART:20241103T060000
END:STANDARD
BEGIN:DAYLIGHT
TZOFFSETFROM:-0500
TZOFFSETTO:-0400
TZNAME:EDT
DTSTART:20250309T070000
END:DAYLIGHT
BEGIN:STANDARD
TZOFFSETFROM:-0400
TZOFFSETTO:-0500
TZNAME:EST
DTSTART:20251102T060000
END:STANDARD
BEGIN:DAYLIGHT
TZOFFSETFROM:-0500
TZOFFSETTO:-0400
TZNAME:EDT
DTSTART:20260308T070000
END:DAYLIGHT
BEGIN:STANDARD
TZOFFSETFROM:-0400
TZOFFSETTO:-0500
TZNAME:EST
DTSTART:20261101T060000
END:STANDARD
END:VTIMEZONE
BEGIN:VEVENT
DTSTART;TZID=America/Detroit:20250316T153000
DTEND;TZID=America/Detroit:20250316T183000
DTSTAMP:20260421T002354
CREATED:20250214T184155Z
LAST-MODIFIED:20250217T163419Z
UID:7957-1742139000-1742149800@moondropherbals.com
SUMMARY:Tasseomancy & Wands (Filled)
DESCRIPTION:YOU’RE INVITED TO A GATHERING FOR INSIGHT\, RENEWAL\, & MAGIC\nJoin us as we celebrate the Vernal Equinox for an afternoon of private shopping with discounted prices\, wand-making\, and a tea-leaf reading. \nSuzie and Gayle will begin by guiding you through intention-setting to infuse your wand\, and inform your tea-leaf reading. Next\, you will split into two groups to take turns having your tea leaves read by Gayle Campbell of Soulistic Healing Services\, and making a custom wand with Suzie Roberts of Branded Goat Design. We’ll end the session with a closing ceremony\, releasing your intentions by sending them up in a cleansing smoke. There will be time to shop both before and after the event. \nSpace is limited so sign up early using the contact form below to ensure you and your bff get a seat at the same table. Once your RSVP is received\, I will send an email containing the payment link. Your reservation will be confirmed upon receipt of payment. \nDiscounted shopping will be available before and after the event \n\n\n\nFurther Information \nMoondrop Herbals will close to the public at 3:00 pm. As we finish setting up\, guests will enjoy 15% off storewide. At approximately 3:30pm we’ll split into two groups and alternate between tasseomancy and wand-making. Each session will last between 1 and 1 ½ hours.  Additional discounted shopping time will be available afterwards. \nDetails About Wand Making \nSuzie will provide all tools necessary\, the wand (natural wood branches prepped\, sanded\, and trimmed)\, and an assortment of embellishments for you to choose from. Feel free to bring your own magical items to use. \nYour Tea Reading \nTasseomancy is the art and practice of divination by interpretation of symbolic patterns made by residual leaves left in the bottom of one’s tea cup. Gayle will serve you a delicious cup of tea and a light dessert\, then guide your steps to prepare your cup for your reading. She will then share the messages with you based on the images and patterns she sees in the leaves. \nCancellations \nCancellations prior to March 4th will receive a full refund\, cancellations after this date can not be guaranteed – we will do our best to fill your spot(s) and issue you a refund or credit.  If\, for any reason we need to cancel this event\, your payment will be refunded/credited in full.
URL:https://moondropherbals.com/event/tea-party-of-insight-and-magic-2-2/
LOCATION:Moondrop Herbals\, 638 Fulton Street West STE B\, Grand Rapids\, MI\, 49504\, United States
CATEGORIES:Energy & Insight Workshop,Self Care & Comfort,Shopping Event
ATTACH;FMTTYPE=image/jpeg:https://moondropherbals.com/wp-content/uploads/2025/02/TeaTasseoSpring2025EventHeader.jpg
ORGANIZER;CN="Linda Snow":MAILTO:linda@moondropherbals.com
END:VEVENT
END:VCALENDAR