BEGIN:VCALENDAR
VERSION:2.0
PRODID:-//MoonDrop Herbals - ECPv6.15.18//NONSGML v1.0//EN
CALSCALE:GREGORIAN
METHOD:PUBLISH
X-ORIGINAL-URL:https://moondropherbals.com
X-WR-CALDESC:Events for MoonDrop Herbals
REFRESH-INTERVAL;VALUE=DURATION:PT1H
X-Robots-Tag:noindex
X-PUBLISHED-TTL:PT1H
BEGIN:VTIMEZONE
TZID:America/Detroit
BEGIN:DAYLIGHT
TZOFFSETFROM:-0500
TZOFFSETTO:-0400
TZNAME:EDT
DTSTART:20240310T070000
END:DAYLIGHT
BEGIN:STANDARD
TZOFFSETFROM:-0400
TZOFFSETTO:-0500
TZNAME:EST
DTSTART:20241103T060000
END:STANDARD
BEGIN:DAYLIGHT
TZOFFSETFROM:-0500
TZOFFSETTO:-0400
TZNAME:EDT
DTSTART:20250309T070000
END:DAYLIGHT
BEGIN:STANDARD
TZOFFSETFROM:-0400
TZOFFSETTO:-0500
TZNAME:EST
DTSTART:20251102T060000
END:STANDARD
BEGIN:DAYLIGHT
TZOFFSETFROM:-0500
TZOFFSETTO:-0400
TZNAME:EDT
DTSTART:20260308T070000
END:DAYLIGHT
BEGIN:STANDARD
TZOFFSETFROM:-0400
TZOFFSETTO:-0500
TZNAME:EST
DTSTART:20261101T060000
END:STANDARD
END:VTIMEZONE
BEGIN:VEVENT
DTSTART;TZID=America/Detroit:20251019T163000
DTEND;TZID=America/Detroit:20251019T183000
DTSTAMP:20260419T185313
CREATED:20250822T184615Z
LAST-MODIFIED:20251008T164541Z
UID:8762-1760891400-1760898600@moondropherbals.com
SUMMARY:The Balsamic Moon\, Tea\, + a Book (is filled)
DESCRIPTION:The Balsamic Moon (waning crescent) opens doors to visions and imagination. The Spirit realm is close. This is a good time to access knowledge\, support\, and protection from your ancestors. It can also be a time of shedding what no longer serves us. Additionally\, The Balsamic Moon of October 19th is in Libra\, which aids magical workings concerning balance\, justice\, legal matters\, and better health habits. \nJoin us as we celebrate the Balsamic Libra Moon of October\, for an intimate afternoon with like souls where you will make your own magickal keepsake journal with Suzie Roberts of Branded Goat Designs\, and have a reading of tea leaves with intuitive Gayle Campbell of Soulistic Healing Services\, as she helps you communicate with your ancestors and spirit guides. \nWe’ll start by offering a blessing to the Balsamic Moon\, lending personal items to our altar\, share intention-setting (for those who wish to share)\, and a short grounding and power-raising exercise. \nNext\, you will split into two groups to take turns having your tea leaves read\, and making a custom keepsake journal with plenty of room for writing\, drawing\, and stashing all your little bits and bobs. Can you say ‘grimoire’? \nThere will be time to shop both before\, during\, and after the event. \nSpace is limited so sign up early using the contact form below to ensure you and your besties get a seat at the same table. Once your RSVP is received\, I will send an email containing the payment link. Your reservation will be confirmed upon receipt of payment. \n \nDiscounted shopping will be available before and after the event \n \n\n\n\nFurther Information \nMoondrop Herbals will close to the public at 4:00 pm. As we finish setting up\, guests will enjoy 15% off storewide. At approximately 4:30pm we’ll begin our opening ceremony\, Each group session will last approximately 1 hour.  Additional discounted shopping time will be available afterwards. \nDetails About Journal Making \nSuzie will provide all tools and materials necessary\, you may feel free to bring your own items to decorate the book cover (magazine clippings\, pictures\, beads\, etc.)\, or you might feel more comfortable finishing this part at home. \nYour Tea Reading \nTasseomancy is the art and practice of divination by interpretation of symbolic patterns made by residual leaves left in the bottom of one’s tea cup. Gayle will serve you a delicious cup of tea and a light dessert\, then guide your steps to prepare your cup for your reading. She will then share the messages with you based on the images and patterns she sees in the leaves. \nCancellations \nCancellations prior to Oct 5th will receive a full refund\, cancellations after this date can not be guaranteed – we will do our best to fill your spot(s) and issue you a refund or credit.  If\, for any reason we need to cancel this event\, your payment will be refunded/credited in full.
URL:https://moondropherbals.com/event/balsamic-moon-tea-book-10-19/
LOCATION:Moondrop Herbals\, 638 Fulton Street West STE B\, Grand Rapids\, MI\, 49504\, United States
CATEGORIES:Energy & Insight Workshop,Self Care & Comfort,Shopping Event
ATTACH;FMTTYPE=image/jpeg:https://moondropherbals.com/wp-content/uploads/2025/08/TasseoEventHeader.jpg
ORGANIZER;CN="Linda Snow":MAILTO:linda@moondropherbals.com
END:VEVENT
END:VCALENDAR