BEGIN:VCALENDAR
VERSION:2.0
PRODID:-//MoonDrop Herbals - ECPv6.15.18//NONSGML v1.0//EN
CALSCALE:GREGORIAN
METHOD:PUBLISH
X-WR-CALNAME:MoonDrop Herbals
X-ORIGINAL-URL:https://moondropherbals.com
X-WR-CALDESC:Events for MoonDrop Herbals
REFRESH-INTERVAL;VALUE=DURATION:PT1H
X-Robots-Tag:noindex
X-PUBLISHED-TTL:PT1H
BEGIN:VTIMEZONE
TZID:America/Detroit
BEGIN:DAYLIGHT
TZOFFSETFROM:-0500
TZOFFSETTO:-0400
TZNAME:EDT
DTSTART:20240310T070000
END:DAYLIGHT
BEGIN:STANDARD
TZOFFSETFROM:-0400
TZOFFSETTO:-0500
TZNAME:EST
DTSTART:20241103T060000
END:STANDARD
BEGIN:DAYLIGHT
TZOFFSETFROM:-0500
TZOFFSETTO:-0400
TZNAME:EDT
DTSTART:20250309T070000
END:DAYLIGHT
BEGIN:STANDARD
TZOFFSETFROM:-0400
TZOFFSETTO:-0500
TZNAME:EST
DTSTART:20251102T060000
END:STANDARD
BEGIN:DAYLIGHT
TZOFFSETFROM:-0500
TZOFFSETTO:-0400
TZNAME:EDT
DTSTART:20260308T070000
END:DAYLIGHT
BEGIN:STANDARD
TZOFFSETFROM:-0400
TZOFFSETTO:-0500
TZNAME:EST
DTSTART:20261101T060000
END:STANDARD
END:VTIMEZONE
BEGIN:VEVENT
DTSTART;TZID=America/Detroit:20251115T130000
DTEND;TZID=America/Detroit:20251115T160000
DTSTAMP:20260419T172256
CREATED:20251024T174057Z
LAST-MODIFIED:20251105T221420Z
UID:8874-1763211600-1763222400@moondropherbals.com
SUMMARY:Happy Birthday to Us!
DESCRIPTION:It’s Gayle and Linda’s Birthday week!\nWe each want a million dollars\, but if we can’t have that\, we want to see your smiling faces! Stop in for discounted shopping\, a cuppa tea\, and a reading. If you feel called to\, we’re taking donations of cash and food for The Other Way Ministries a few doors down from us\, and one of the best community helpers around. The Other Way offers a food pantry\, afterschool care\, and community classes\, just to name a few of the services they provide. HERE is a list of items on their high needs list. \nGayle offers intuitive\, past-life\, and chakra readings from 1p – 4p. Walk-in or by appointment. 15 minute minimum.\nCall or Text | 616.916.0701 \nAbout Gayle | Gayle Campbell is an Intuitive and Master Reiki Teacher and Healer. She uses her heightened perceptive abilities to discern helpful information and impart guidance to her clients by reading and moving energy\, through spirit communication\, and through translating the layout of cards\, runes\, and tea leaves. \n\nMoondrop Herbals will be open from 11a – 4p to shop tea\, herbs\, books\, crystals & more.\nWe offer organic dried herbs\, house-blended tea & cooking spices\, handmade organic skincare products\, essential oils\, and other aromatherapy products. Nestled in among the herbs\, teas\, and oils you will find crystals\, jewelry\, specialty books\, and other local artisan goods.  This Weekend’s Cuppa will be Moondrop Herbals ‘Splendid Spirit’\, a  perfect cup of tea for a birthday celebration! \nEnjoy 15% off Books\, Skincare\, and Aromatherapy Products\nMoondrop Herbals will be open from 11a – 4p for you to shop tea\, herbs\, books\, crystals & more.\nNow offering a featured complimentary ‘cuppa’ tea on the weekends! \n\nParking & Bus Stop Information\nLimited Parking | Access our parking lot from the west side of building (by Vitos Pizza) and drive around back. This is a shared space for three businesses so please park neatly and don’t leave your car in the lot for extended times.\nLoading Zone | Use flashers and park in the Loading Zone in front of Clear Skies Eyecare for quick stops.\nHandicap Access | Front entrance has steps leading to the door. There is one handicap parking spot in the private lot behind the building (see above). It’s helpful if you call prior to visiting so I know to be ready for your arrival. Once you arrive and are parked\, call or text the store: 616 735 1285 and I will let you in the through the rear service entrance.\nStreet Parking | Eastbound side of Fulton in front of my building is metered | Westbound side is FREE parking.\nMetered Parking | Enforced M-F 8a- 7p | $2.00/hour | Pay by coin\, card\, app\, or phone call.\nPublic Lot | Fulton and Straight which is just a few blocks west of Moondrop Herbals.\nLaker Line | Moondrop Herbals is in between the Straight Street stop and Pew Campus stop on the South side of Fulton Street. \n\n 
URL:https://moondropherbals.com/event/birthday-party-readings-11-15/
LOCATION:Moondrop Herbals\, 638 Fulton Street West STE B\, Grand Rapids\, MI\, 49504\, United States
CATEGORIES:Card Reading,Community Event,Shopping Event
ATTACH;FMTTYPE=image/jpeg:https://moondropherbals.com/wp-content/uploads/2025/10/BirthdayReadings.jpg
ORGANIZER;CN="Linda Snow":MAILTO:linda@moondropherbals.com
END:VEVENT
BEGIN:VEVENT
DTSTART;TZID=America/Detroit:20251129T110000
DTEND;TZID=America/Detroit:20251129T160000
DTSTAMP:20260419T172256
CREATED:20251025T175027Z
LAST-MODIFIED:20251129T123117Z
UID:8876-1764414000-1764432000@moondropherbals.com
SUMMARY:Shop Small With Special Guests
DESCRIPTION:It’s Small Business Saturday\nShop Discounts | Guest Jewelry Artisan | Intuitive Readings\nWhen local businesses thrive\, we can reinvest in the community in numerous ways. This includes improving our services and contributing to local infrastructure and amenities. We help create more vibrant neighborhoods and town centers for all to enjoy. Now\, more than ever\, we need your support to keep our doors open. – When our doors remain open\, we spend our disposable income in our own localities. \nBenefits of supporting your local economy by shopping small include:\nContributing to the local economy | Supporting neighbors | Experiencing personalized Customer Service | Unique\, and often handmade products | Building community connections | PLUS – The Experience is Way More Fun! \n\nShop Tea\, Herbs\, Books\, Crystals + More\nWe offer organic dried herbs\, house-blended tea & cooking spices\, handmade organic skincare products\, essential oils\, and other aromatherapy products. Nestled in among the herbs\, teas\, and oils you will find aromatherapy accessories\, crystals\, jewelry\, specialty books\, and other local artisan goods. Stop in for discounted shopping\, a cuppa tea\, and a reading. If you feel called to\, we’re taking donations of cash and food for The Other Way Ministries a few doors down from us\, and one of the best community helpers around. The Other Way offers a food pantry\, afterschool care\, and community classes\, just to name a few of the services they provide. HERE is a list of items on their high needs list. \n \nSaturday November 29th from 10a – 4p\n\n10% off 10ml Essential Oils & Synergy Blends\n15% off Books\, Decks\, and Journals\nPLUS 20% off Moondrop Herbals Hand-mades\nwhen you purchase in bundles of three or more items to create a gift set\nRAFFLE Giveaway\, Two Winners!\nFull Set of Moondrop Herbals Chakra Aromatherapy Blends \n \nFeaturing a complimentary ‘cuppa’ every weekend!\n\nGuest Jewelry Designer\, Sue van Dame\n\nSue van Dame of Lonesome Dovey\,  creates beautiful\, nature-inspired jewelry pieces by texturing\, soldering\, forging\, and wrapping he metals including brass\, copper\, and steel. She then incorporates natural stones\, pearls\, and indigenous trade beads into her pieces. \nSue’s pieces are comfortable to wear and are created with intention to act as talismans for the wearer. Worn for strength\, confidence\, beauty and love. If you want a perfect one-of-a-kind piece of jewelry with timeless style for a special person in your life (YES\, that includes you!) don’t miss this event. \n \n\nIntuitive Reader\, Gayle Campbell\nOffering intuitive\, past life\, and chakra readings. From 1pm – 4pm | Walk-in or by appointment. 15 minute minimum. For an appointment call or text | 616.916.0701 \nAbout Gayle | Gayle Campbell is an Intuitive and Master Reiki Teacher and Healer. She uses her heightened perceptive abilities to discern helpful information and impart guidance to her clients by reading and moving energy\, through spirit communication\, and through translating the layout of cards\, runes\, and tea leaves. \n \n\nParking & Bus Stop Information\n \nLimited Parking | Access our parking lot from the west side of building (by Vitos Pizza) and drive around back. This is a shared space for three businesses so please park neatly and don’t leave your car in the lot for extended times.\nLoading Zone | Use flashers and park in the Loading Zone in front of Clear Skies Eyecare for quick stops.\nHandicap Access | Front entrance has steps leading to the door. There is one handicap parking spot in the private lot behind the building (see above). It’s helpful if you call prior to visiting so I know to be ready for your arrival. Once you arrive and are parked\, call or text the store: 616 735 1285 and I will let you in the through the rear service entrance.\nStreet Parking | Eastbound side of Fulton in front of my building is metered | Westbound side is FREE parking.\nMetered Parking | Enforced M-F 8a- 7p | $2.00/hour | Pay by coin\, card\, app\, or phone call.\nPublic Lot | Fulton and Straight which is just a few blocks west of Moondrop Herbals.\nLaker Line | Moondrop Herbals is in between the Straight Street stop and Pew Campus stop on the South side of Fulton Street. \n\n 
URL:https://moondropherbals.com/event/shop-small-11-29/
LOCATION:Moondrop Herbals\, 638 Fulton Street West STE B\, Grand Rapids\, MI\, 49504\, United States
CATEGORIES:Card Reading,Community Event,Shopping Event
ATTACH;FMTTYPE=image/jpeg:https://moondropherbals.com/wp-content/uploads/2025/10/ShopSmallSueVJewelry.jpg
ORGANIZER;CN="Linda Snow":MAILTO:linda@moondropherbals.com
END:VEVENT
END:VCALENDAR