BEGIN:VCALENDAR
VERSION:2.0
PRODID:-//MoonDrop Herbals - ECPv6.15.18//NONSGML v1.0//EN
CALSCALE:GREGORIAN
METHOD:PUBLISH
X-WR-CALNAME:MoonDrop Herbals
X-ORIGINAL-URL:https://moondropherbals.com
X-WR-CALDESC:Events for MoonDrop Herbals
REFRESH-INTERVAL;VALUE=DURATION:PT1H
X-Robots-Tag:noindex
X-PUBLISHED-TTL:PT1H
BEGIN:VTIMEZONE
TZID:America/Detroit
BEGIN:DAYLIGHT
TZOFFSETFROM:-0500
TZOFFSETTO:-0400
TZNAME:EDT
DTSTART:20250309T070000
END:DAYLIGHT
BEGIN:STANDARD
TZOFFSETFROM:-0400
TZOFFSETTO:-0500
TZNAME:EST
DTSTART:20251102T060000
END:STANDARD
BEGIN:DAYLIGHT
TZOFFSETFROM:-0500
TZOFFSETTO:-0400
TZNAME:EDT
DTSTART:20260308T070000
END:DAYLIGHT
BEGIN:STANDARD
TZOFFSETFROM:-0400
TZOFFSETTO:-0500
TZNAME:EST
DTSTART:20261101T060000
END:STANDARD
BEGIN:DAYLIGHT
TZOFFSETFROM:-0500
TZOFFSETTO:-0400
TZNAME:EDT
DTSTART:20270314T070000
END:DAYLIGHT
BEGIN:STANDARD
TZOFFSETFROM:-0400
TZOFFSETTO:-0500
TZNAME:EST
DTSTART:20271107T060000
END:STANDARD
END:VTIMEZONE
BEGIN:VEVENT
DTSTART;TZID=America/Detroit:20260111T163000
DTEND;TZID=America/Detroit:20260111T183000
DTSTAMP:20260419T142750
CREATED:20251217T184820Z
LAST-MODIFIED:20260107T202415Z
UID:9062-1768149000-1768156200@moondropherbals.com
SUMMARY:3rd Q Moon\, Tea\, + A Tiny Book
DESCRIPTION:This January 11th brings us the Third Quarter Moon at the cusp of Libra and Scorpio moons\, bringing beauty and depth\, as we contemplate releasing the old and seeding the new. Trust your intuition to bring about beauty and balanced harmony into your life. \nThe Third Quarter Moon phase is a good time to connect to The Matriarch within – confident\, secure\, and balanced between light and dark like the Moon. Embrace the increasing Yin energy of the lunar darkness as the moon’s illuminations wane and decrease\, and the Yin energy pulls us inward\, giving us a time to shed\, fall back\, and sort out which new seeds we’re interested in planting at the New Moon. Change\, reassessment\, release\, balance\, and decluttering are all key energies of the Waning Quarter Moon. \nJoin us for an intimate afternoon with like souls where you will make your own magickal tiny book with your own affirmations for releasing and re-seeding with Suzie Roberts of Branded Goat Designs\, a reading of tea leaves with intuitive Gayle Campbell of Soulistic Healing Services\, and discounted shopping in a cozy space with good vibes. \nThere will be time to shop both before\, during\, and after the event. \nSpace is limited so sign up early using the contact form below to ensure you and your besties get a seat at the same table. Once your RSVP is received\, I will send an email containing the payment link. Your reservation will be confirmed upon receipt of payment. \n\n \nDiscounted shopping will be available before and after the event \n\n\n\nFurther Information \nMoondrop Herbals will close to the public at 4:00 pm. As we finish setting up\, guests will enjoy 15% off storewide. At approximately 4:30pm we’ll begin our opening ceremony\, Each group session will last approximately 1 hour.  Additional discounted shopping time will be available afterwards. \nDetails About Tiny Book Making \nSuzie will provide all tools and materials necessary to create two Tiny Saying books ~ one used for a releasing affirmation of your choice\, and one for re-seeding affirmation. \nYour Tea Reading \nTasseomancy is the art and practice of divination by interpretation of symbolic patterns made by residual leaves left in the bottom of one’s tea cup. Gayle will serve you a delicious cup of tea and a light dessert\, then guide your steps to prepare your cup for your reading. She will then share the messages with you based on the images and patterns she sees in the leaves. \nCancellations \nCancellations prior to Oct 5th will receive a full refund\, cancellations after this date can not be guaranteed – we will do our best to fill your spot(s) and issue you a refund or credit.  If\, for any reason we need to cancel this event\, your payment will be refunded/credited in full.
URL:https://moondropherbals.com/event/3rd-q-moon-tea-tiny-book-01-11-26/
LOCATION:Moondrop Herbals\, 638 Fulton Street West STE B\, Grand Rapids\, MI\, 49504\, United States
CATEGORIES:Energy & Insight Workshop,Self Care & Comfort,Shopping Event
ATTACH;FMTTYPE=image/jpeg:https://moondropherbals.com/wp-content/uploads/2025/12/TeaTasseoJanHeader-1.jpg
ORGANIZER;CN="Linda Snow":MAILTO:linda@moondropherbals.com
END:VEVENT
END:VCALENDAR